BEGIN:VCALENDAR
VERSION:2.0
PRODID:-//STEREDENN VOR - ECPv6.15.20//NONSGML v1.0//EN
CALSCALE:GREGORIAN
METHOD:PUBLISH
X-WR-CALNAME:STEREDENN VOR
X-ORIGINAL-URL:https://steredennvor.fr
X-WR-CALDESC:Évènements pour STEREDENN VOR
REFRESH-INTERVAL;VALUE=DURATION:PT1H
X-Robots-Tag:noindex
X-PUBLISHED-TTL:PT1H
BEGIN:VTIMEZONE
TZID:Europe/Paris
BEGIN:DAYLIGHT
TZOFFSETFROM:+0100
TZOFFSETTO:+0200
TZNAME:CEST
DTSTART:20250330T010000
END:DAYLIGHT
BEGIN:STANDARD
TZOFFSETFROM:+0200
TZOFFSETTO:+0100
TZNAME:CET
DTSTART:20251026T010000
END:STANDARD
BEGIN:DAYLIGHT
TZOFFSETFROM:+0100
TZOFFSETTO:+0200
TZNAME:CEST
DTSTART:20260329T010000
END:DAYLIGHT
BEGIN:STANDARD
TZOFFSETFROM:+0200
TZOFFSETTO:+0100
TZNAME:CET
DTSTART:20261025T010000
END:STANDARD
BEGIN:DAYLIGHT
TZOFFSETFROM:+0100
TZOFFSETTO:+0200
TZNAME:CEST
DTSTART:20270328T010000
END:DAYLIGHT
BEGIN:STANDARD
TZOFFSETFROM:+0200
TZOFFSETTO:+0100
TZNAME:CET
DTSTART:20271031T010000
END:STANDARD
END:VTIMEZONE
BEGIN:VEVENT
DTSTART;TZID=Europe/Paris:20261127T190000
DTEND;TZID=Europe/Paris:20261127T233000
DTSTAMP:20260423T162628
CREATED:20260117T135735Z
LAST-MODIFIED:20260125T065439Z
UID:3505-1795806000-1795822200@steredennvor.fr
SUMMARY:Soirée Steredenn Vor
DESCRIPTION:
URL:https://steredennvor.fr/index.php/evenement/soiree-steredenn-vor/
LOCATION:Salle KERHUEL\, rue de Kerhuel\, La Turballe\, 44420\, France
ATTACH;FMTTYPE=image/jpeg:https://steredennvor.fr/wp-content/uploads/2025/11/20251114_202724.jpg
END:VEVENT
END:VCALENDAR