BEGIN:VCALENDAR
VERSION:2.0
PRODID:-//STEREDENN VOR - ECPv6.15.20//NONSGML v1.0//EN
CALSCALE:GREGORIAN
METHOD:PUBLISH
X-WR-CALNAME:STEREDENN VOR
X-ORIGINAL-URL:https://steredennvor.fr
X-WR-CALDESC:Évènements pour STEREDENN VOR
REFRESH-INTERVAL;VALUE=DURATION:PT1H
X-Robots-Tag:noindex
X-PUBLISHED-TTL:PT1H
BEGIN:VTIMEZONE
TZID:Europe/Paris
BEGIN:DAYLIGHT
TZOFFSETFROM:+0100
TZOFFSETTO:+0200
TZNAME:CEST
DTSTART:20250330T010000
END:DAYLIGHT
BEGIN:STANDARD
TZOFFSETFROM:+0200
TZOFFSETTO:+0100
TZNAME:CET
DTSTART:20251026T010000
END:STANDARD
BEGIN:DAYLIGHT
TZOFFSETFROM:+0100
TZOFFSETTO:+0200
TZNAME:CEST
DTSTART:20260329T010000
END:DAYLIGHT
BEGIN:STANDARD
TZOFFSETFROM:+0200
TZOFFSETTO:+0100
TZNAME:CET
DTSTART:20261025T010000
END:STANDARD
BEGIN:DAYLIGHT
TZOFFSETFROM:+0100
TZOFFSETTO:+0200
TZNAME:CEST
DTSTART:20270328T010000
END:DAYLIGHT
BEGIN:STANDARD
TZOFFSETFROM:+0200
TZOFFSETTO:+0100
TZNAME:CET
DTSTART:20271031T010000
END:STANDARD
END:VTIMEZONE
BEGIN:VEVENT
DTSTART;TZID=Europe/Paris:20260927T100000
DTEND;TZID=Europe/Paris:20260927T230000
DTSTAMP:20260423T132351
CREATED:20260208T065952Z
LAST-MODIFIED:20260208T065952Z
UID:3592-1790503200-1790550000@steredennvor.fr
SUMMARY:Airs Marins à Piriac sur Mer
DESCRIPTION:
URL:https://steredennvor.fr/index.php/evenement/airs-marins-a-piriac-sur-mer/
LOCATION:Port de Piriac sur Mer\, quai de Verdun\, Piriac sur Mer\, 44420\, France
END:VEVENT
END:VCALENDAR