BEGIN:VCALENDAR
VERSION:2.0
PRODID:-//STEREDENN VOR - ECPv6.15.20//NONSGML v1.0//EN
CALSCALE:GREGORIAN
METHOD:PUBLISH
X-WR-CALNAME:STEREDENN VOR
X-ORIGINAL-URL:https://steredennvor.fr
X-WR-CALDESC:Évènements pour STEREDENN VOR
REFRESH-INTERVAL;VALUE=DURATION:PT1H
X-Robots-Tag:noindex
X-PUBLISHED-TTL:PT1H
BEGIN:VTIMEZONE
TZID:Europe/Paris
BEGIN:DAYLIGHT
TZOFFSETFROM:+0100
TZOFFSETTO:+0200
TZNAME:CEST
DTSTART:20240331T010000
END:DAYLIGHT
BEGIN:STANDARD
TZOFFSETFROM:+0200
TZOFFSETTO:+0100
TZNAME:CET
DTSTART:20241027T010000
END:STANDARD
BEGIN:DAYLIGHT
TZOFFSETFROM:+0100
TZOFFSETTO:+0200
TZNAME:CEST
DTSTART:20250330T010000
END:DAYLIGHT
BEGIN:STANDARD
TZOFFSETFROM:+0200
TZOFFSETTO:+0100
TZNAME:CET
DTSTART:20251026T010000
END:STANDARD
BEGIN:DAYLIGHT
TZOFFSETFROM:+0100
TZOFFSETTO:+0200
TZNAME:CEST
DTSTART:20260329T010000
END:DAYLIGHT
BEGIN:STANDARD
TZOFFSETFROM:+0200
TZOFFSETTO:+0100
TZNAME:CET
DTSTART:20261025T010000
END:STANDARD
END:VTIMEZONE
BEGIN:VEVENT
DTSTART;VALUE=DATE:20251030
DTEND;VALUE=DATE:20251103
DTSTAMP:20260419T153710
CREATED:20250223T101147Z
LAST-MODIFIED:20250915T200751Z
UID:1671-1761782400-1762127999@steredennvor.fr
SUMMARY:Salon nautique Mille Sabords au Crouesty
DESCRIPTION:Site de la manifestation
URL:https://steredennvor.fr/index.php/evenement/salon-nautique-mille-sabords/
LOCATION:Port du Crouesty\, ARZON\, 56640\, France
ATTACH;FMTTYPE=image/webp:https://steredennvor.fr/wp-content/uploads/2025/02/affiche-sans-part_0.png.webp
END:VEVENT
BEGIN:VEVENT
DTSTART;TZID=Europe/Paris:20251112T193000
DTEND;TZID=Europe/Paris:20251112T220000
DTSTAMP:20260419T153710
CREATED:20250903T193020Z
LAST-MODIFIED:20250911T024147Z
UID:2758-1762975800-1762984800@steredennvor.fr
SUMMARY:Soirée musicale Steredenn Vor au CAP270
DESCRIPTION:
URL:https://steredennvor.fr/index.php/evenement/soiree-musicale-steredenn-vor-au-cap270-3/
LOCATION:CAP 270\, 1 quai Saint Pierre\, La Turballe\, 44420\, France
ATTACH;FMTTYPE=image/jpeg:https://steredennvor.fr/wp-content/uploads/2025/09/20250910_201835.jpg
END:VEVENT
BEGIN:VEVENT
DTSTART;TZID=Europe/Paris:20251114T193000
DTEND;TZID=Europe/Paris:20251114T230000
DTSTAMP:20260419T153710
CREATED:20250903T194830Z
LAST-MODIFIED:20251006T043824Z
UID:2770-1763148600-1763161200@steredennvor.fr
SUMMARY:Soirée de fin d'année de l'association
DESCRIPTION:
URL:https://steredennvor.fr/index.php/evenement/repas-de-fin-dannee-de-lassociation/
LOCATION:Salle KERHUEL\, rue de Kerhuel\, La Turballe\, 44420\, France
ATTACH;FMTTYPE=image/jpeg:https://steredennvor.fr/wp-content/uploads/2025/10/Affiche-repas-fin-annee-NOV-2025.jpg
END:VEVENT
END:VCALENDAR