BEGIN:VCALENDAR
VERSION:2.0
PRODID:-//STEREDENN VOR - ECPv6.15.20//NONSGML v1.0//EN
CALSCALE:GREGORIAN
METHOD:PUBLISH
X-ORIGINAL-URL:https://steredennvor.fr
X-WR-CALDESC:Évènements pour STEREDENN VOR
REFRESH-INTERVAL;VALUE=DURATION:PT1H
X-Robots-Tag:noindex
X-PUBLISHED-TTL:PT1H
BEGIN:VTIMEZONE
TZID:Europe/Paris
BEGIN:DAYLIGHT
TZOFFSETFROM:+0100
TZOFFSETTO:+0200
TZNAME:CEST
DTSTART:20240331T010000
END:DAYLIGHT
BEGIN:STANDARD
TZOFFSETFROM:+0200
TZOFFSETTO:+0100
TZNAME:CET
DTSTART:20241027T010000
END:STANDARD
BEGIN:DAYLIGHT
TZOFFSETFROM:+0100
TZOFFSETTO:+0200
TZNAME:CEST
DTSTART:20250330T010000
END:DAYLIGHT
BEGIN:STANDARD
TZOFFSETFROM:+0200
TZOFFSETTO:+0100
TZNAME:CET
DTSTART:20251026T010000
END:STANDARD
BEGIN:DAYLIGHT
TZOFFSETFROM:+0100
TZOFFSETTO:+0200
TZNAME:CEST
DTSTART:20260329T010000
END:DAYLIGHT
BEGIN:STANDARD
TZOFFSETFROM:+0200
TZOFFSETTO:+0100
TZNAME:CET
DTSTART:20261025T010000
END:STANDARD
END:VTIMEZONE
BEGIN:VEVENT
DTSTART;VALUE=DATE:20250802
DTEND;VALUE=DATE:20250803
DTSTAMP:20260419T204903
CREATED:20250223T100702Z
LAST-MODIFIED:20250730T045154Z
UID:1668-1754092800-1754179199@steredennvor.fr
SUMMARY:Fête du Grand Norven à Piriac
DESCRIPTION:
URL:https://steredennvor.fr/index.php/evenement/fete-du-grand-norven/
LOCATION:Port de Piriac sur Mer\, quai de Verdun\, Piriac sur Mer\, 44420\, France
ATTACH;FMTTYPE=image/jpeg:https://steredennvor.fr/wp-content/uploads/2025/02/320x240_grand-norven-2596419.jpg
END:VEVENT
BEGIN:VEVENT
DTSTART;VALUE=DATE:20250803
DTEND;VALUE=DATE:20250804
DTSTAMP:20260419T204903
CREATED:20250223T100355Z
LAST-MODIFIED:20250727T092827Z
UID:1665-1754179200-1754265599@steredennvor.fr
SUMMARY:Fête de la Sainte Anne
DESCRIPTION:
URL:https://steredennvor.fr/index.php/evenement/sortie-de-la-sainte-anne/
LOCATION:Port de La Turballe\, Quai Sevine Bustamente\, La Turballe\, 44420\, France
ATTACH;FMTTYPE=image/jpeg:https://steredennvor.fr/wp-content/uploads/2025/07/Fete-de-la-ste-anne-a-la-Turballe_20250803_affiche.jpg
END:VEVENT
BEGIN:VEVENT
DTSTART;TZID=Europe/Paris:20250805T143000
DTEND;TZID=Europe/Paris:20250806T000000
DTSTAMP:20260419T204903
CREATED:20250225T102140Z
LAST-MODIFIED:20250612T043553Z
UID:1704-1754404200-1754438400@steredennvor.fr
SUMMARY:Dîner de thon - Esplanade des Bretons
DESCRIPTION:
URL:https://steredennvor.fr/index.php/evenement/diner-de-thon/
LOCATION:Esplanade des Bretons\, Boulevard Bellanger\, La Turballe\, 44420\, France
ATTACH;FMTTYPE=image/jpeg:https://steredennvor.fr/wp-content/uploads/2025/02/AFFICHE_DINER_DE_THON_2025.jpg
END:VEVENT
END:VCALENDAR